BEGIN:VCALENDAR
VERSION:2.0
PRODID:https://ts-kr.de/club/bp32
METHOD:PUBLISH
BEGIN:VTIMEZONE
TZID:Europe/Berlin
X-LIC-LOCATION:Europe/Berlin
BEGIN:DAYLIGHT
TZOFFSETFROM:+0100
TZOFFSETTO:+0200
TZNAME:CEST
DTSTART:19700329T020000
RRULE:FREQ=YEARLY;BYMONTH=3;BYDAY=-1SU
END:DAYLIGHT
BEGIN:STANDARD
TZOFFSETFROM:+0200
TZOFFSETTO:+0100
TZNAME:CET
DTSTART:19701025T030000
RRULE:FREQ=YEARLY;BYMONTH=10;BYDAY=-1SU
END:STANDARD
END:VTIMEZONE
BEGIN:VEVENT
DTSTART;TZID=Europe/Berlin:20231203T174000
DTEND;TZID=Europe/Berlin:20231203T185500
UID:bp32-20231203T174000@ts-kr.de
DTSTAMP:20260423T005032Z
SUMMARY:Aufsteigerkurs II (Bronze) (bp32)
DESCRIPTION:1te Stunde
LOCATION:Tanzschule Köpke Rupprecht
TRANSP:OPAQUE
SEQUENCE:0
PRIORITY:1
CLASS:PUBLIC
END:VEVENT
BEGIN:VEVENT
DTSTART;TZID=Europe/Berlin:20231210T174000
DTEND;TZID=Europe/Berlin:20231210T185500
UID:bp32-20231210T174000@ts-kr.de
DTSTAMP:20260423T005032Z
SUMMARY:Aufsteigerkurs II (Bronze) (bp32)
DESCRIPTION:2te Stunde
LOCATION:Tanzschule Köpke Rupprecht
TRANSP:OPAQUE
SEQUENCE:0
PRIORITY:1
CLASS:PUBLIC
END:VEVENT
BEGIN:VEVENT
DTSTART;TZID=Europe/Berlin:20231217T174000
DTEND;TZID=Europe/Berlin:20231217T185500
UID:bp32-20231217T174000@ts-kr.de
DTSTAMP:20260423T005032Z
SUMMARY:Aufsteigerkurs II (Bronze) (bp32)
DESCRIPTION:3te Stunde
LOCATION:Tanzschule Köpke Rupprecht
TRANSP:OPAQUE
SEQUENCE:0
PRIORITY:1
CLASS:PUBLIC
END:VEVENT
BEGIN:VEVENT
DTSTART;TZID=Europe/Berlin:20240114T174000
DTEND;TZID=Europe/Berlin:20240114T185500
UID:bp32-20240114T174000@ts-kr.de
DTSTAMP:20260423T005032Z
SUMMARY:Aufsteigerkurs II (Bronze) (bp32)
DESCRIPTION:4te Stunde
LOCATION:Tanzschule Köpke Rupprecht
TRANSP:OPAQUE
SEQUENCE:0
PRIORITY:1
CLASS:PUBLIC
END:VEVENT
BEGIN:VEVENT
DTSTART;TZID=Europe/Berlin:20240121T174000
DTEND;TZID=Europe/Berlin:20240121T185500
UID:bp32-20240121T174000@ts-kr.de
DTSTAMP:20260423T005032Z
SUMMARY:Aufsteigerkurs II (Bronze) (bp32)
DESCRIPTION:5te Stunde
LOCATION:Tanzschule Köpke Rupprecht
TRANSP:OPAQUE
SEQUENCE:0
PRIORITY:1
CLASS:PUBLIC
END:VEVENT
BEGIN:VEVENT
DTSTART;TZID=Europe/Berlin:20240128T174000
DTEND;TZID=Europe/Berlin:20240128T185500
UID:bp32-20240128T174000@ts-kr.de
DTSTAMP:20260423T005032Z
SUMMARY:Aufsteigerkurs II (Bronze) (bp32)
DESCRIPTION:6te Stunde
LOCATION:Tanzschule Köpke Rupprecht
TRANSP:OPAQUE
SEQUENCE:0
PRIORITY:1
CLASS:PUBLIC
END:VEVENT
BEGIN:VEVENT
DTSTART;TZID=Europe/Berlin:20240204T174000
DTEND;TZID=Europe/Berlin:20240204T185500
UID:bp32-20240204T174000@ts-kr.de
DTSTAMP:20260423T005032Z
SUMMARY:Aufsteigerkurs II (Bronze) (bp32)
DESCRIPTION:7te Stunde
LOCATION:Tanzschule Köpke Rupprecht
TRANSP:OPAQUE
SEQUENCE:0
PRIORITY:1
CLASS:PUBLIC
END:VEVENT
BEGIN:VEVENT
DTSTART;TZID=Europe/Berlin:20240211T174000
DTEND;TZID=Europe/Berlin:20240211T185500
UID:bp32-20240211T174000@ts-kr.de
DTSTAMP:20260423T005032Z
SUMMARY:Aufsteigerkurs II (Bronze) (bp32)
DESCRIPTION:8te Stunde
LOCATION:Tanzschule Köpke Rupprecht
TRANSP:OPAQUE
SEQUENCE:0
PRIORITY:1
CLASS:PUBLIC
END:VEVENT
BEGIN:VEVENT
DTSTART;TZID=Europe/Berlin:20240225T174000
DTEND;TZID=Europe/Berlin:20240225T185500
UID:bp32-20240225T174000@ts-kr.de
DTSTAMP:20260423T005032Z
SUMMARY:Aufsteigerkurs II (Bronze) (bp32)
DESCRIPTION:9te Stunde
LOCATION:Tanzschule Köpke Rupprecht
TRANSP:OPAQUE
SEQUENCE:0
PRIORITY:1
CLASS:PUBLIC
END:VEVENT
END:VCALENDAR
