BEGIN:VCALENDAR
VERSION:2.0
PRODID:https://ts-kr.de/club/gp11
METHOD:PUBLISH
BEGIN:VTIMEZONE
TZID:Europe/Berlin
X-LIC-LOCATION:Europe/Berlin
BEGIN:DAYLIGHT
TZOFFSETFROM:+0100
TZOFFSETTO:+0200
TZNAME:CEST
DTSTART:19700329T020000
RRULE:FREQ=YEARLY;BYMONTH=3;BYDAY=-1SU
END:DAYLIGHT
BEGIN:STANDARD
TZOFFSETFROM:+0200
TZOFFSETTO:+0100
TZNAME:CET
DTSTART:19701025T030000
RRULE:FREQ=YEARLY;BYMONTH=10;BYDAY=-1SU
END:STANDARD
END:VTIMEZONE
BEGIN:VEVENT
DTSTART;TZID=Europe/Berlin:20241010T194000
DTEND;TZID=Europe/Berlin:20241010T205500
UID:gp11-20241010T194000@ts-kr.de
DTSTAMP:20260420T172417Z
SUMMARY:Aufsteigerkurs IV (Gold) (gp11)
DESCRIPTION:1te Stunde
LOCATION:Tanzschule Köpke Rupprecht
TRANSP:OPAQUE
SEQUENCE:0
PRIORITY:1
CLASS:PUBLIC
END:VEVENT
BEGIN:VEVENT
DTSTART;TZID=Europe/Berlin:20241017T194000
DTEND;TZID=Europe/Berlin:20241017T205500
UID:gp11-20241017T194000@ts-kr.de
DTSTAMP:20260420T172417Z
SUMMARY:Aufsteigerkurs IV (Gold) (gp11)
DESCRIPTION:2te Stunde
LOCATION:Tanzschule Köpke Rupprecht
TRANSP:OPAQUE
SEQUENCE:0
PRIORITY:1
CLASS:PUBLIC
END:VEVENT
BEGIN:VEVENT
DTSTART;TZID=Europe/Berlin:20241024T194000
DTEND;TZID=Europe/Berlin:20241024T205500
UID:gp11-20241024T194000@ts-kr.de
DTSTAMP:20260420T172417Z
SUMMARY:Aufsteigerkurs IV (Gold) (gp11)
DESCRIPTION:3te Stunde
LOCATION:Tanzschule Köpke Rupprecht
TRANSP:OPAQUE
SEQUENCE:0
PRIORITY:1
CLASS:PUBLIC
END:VEVENT
BEGIN:VEVENT
DTSTART;TZID=Europe/Berlin:20241107T194000
DTEND;TZID=Europe/Berlin:20241107T205500
UID:gp11-20241107T194000@ts-kr.de
DTSTAMP:20260420T172417Z
SUMMARY:Aufsteigerkurs IV (Gold) (gp11)
DESCRIPTION:4te Stunde
LOCATION:Tanzschule Köpke Rupprecht
TRANSP:OPAQUE
SEQUENCE:0
PRIORITY:1
CLASS:PUBLIC
END:VEVENT
BEGIN:VEVENT
DTSTART;TZID=Europe/Berlin:20241114T194000
DTEND;TZID=Europe/Berlin:20241114T205500
UID:gp11-20241114T194000@ts-kr.de
DTSTAMP:20260420T172417Z
SUMMARY:Aufsteigerkurs IV (Gold) (gp11)
DESCRIPTION:5te Stunde
LOCATION:Tanzschule Köpke Rupprecht
TRANSP:OPAQUE
SEQUENCE:0
PRIORITY:1
CLASS:PUBLIC
END:VEVENT
BEGIN:VEVENT
DTSTART;TZID=Europe/Berlin:20241121T194000
DTEND;TZID=Europe/Berlin:20241121T205500
UID:gp11-20241121T194000@ts-kr.de
DTSTAMP:20260420T172417Z
SUMMARY:Aufsteigerkurs IV (Gold) (gp11)
DESCRIPTION:6te Stunde
LOCATION:Tanzschule Köpke Rupprecht
TRANSP:OPAQUE
SEQUENCE:0
PRIORITY:1
CLASS:PUBLIC
END:VEVENT
BEGIN:VEVENT
DTSTART;TZID=Europe/Berlin:20241128T194000
DTEND;TZID=Europe/Berlin:20241128T205500
UID:gp11-20241128T194000@ts-kr.de
DTSTAMP:20260420T172417Z
SUMMARY:Aufsteigerkurs IV (Gold) (gp11)
DESCRIPTION:7te Stunde
LOCATION:Tanzschule Köpke Rupprecht
TRANSP:OPAQUE
SEQUENCE:0
PRIORITY:1
CLASS:PUBLIC
END:VEVENT
BEGIN:VEVENT
DTSTART;TZID=Europe/Berlin:20241205T194000
DTEND;TZID=Europe/Berlin:20241205T205500
UID:gp11-20241205T194000@ts-kr.de
DTSTAMP:20260420T172417Z
SUMMARY:Aufsteigerkurs IV (Gold) (gp11)
DESCRIPTION:8te Stunde
LOCATION:Tanzschule Köpke Rupprecht
TRANSP:OPAQUE
SEQUENCE:0
PRIORITY:1
CLASS:PUBLIC
END:VEVENT
BEGIN:VEVENT
DTSTART;TZID=Europe/Berlin:20241212T194000
DTEND;TZID=Europe/Berlin:20241212T205500
UID:gp11-20241212T194000@ts-kr.de
DTSTAMP:20260420T172417Z
SUMMARY:Aufsteigerkurs IV (Gold) (gp11)
DESCRIPTION:9te Stunde
LOCATION:Tanzschule Köpke Rupprecht
TRANSP:OPAQUE
SEQUENCE:0
PRIORITY:1
CLASS:PUBLIC
END:VEVENT
END:VCALENDAR
