BEGIN:VCALENDAR
VERSION:2.0
PRODID:https://ts-kr.de/club/xx63
METHOD:PUBLISH
BEGIN:VTIMEZONE
TZID:Europe/Berlin
X-LIC-LOCATION:Europe/Berlin
BEGIN:DAYLIGHT
TZOFFSETFROM:+0100
TZOFFSETTO:+0200
TZNAME:CEST
DTSTART:19700329T020000
RRULE:FREQ=YEARLY;BYMONTH=3;BYDAY=-1SU
END:DAYLIGHT
BEGIN:STANDARD
TZOFFSETFROM:+0200
TZOFFSETTO:+0100
TZNAME:CET
DTSTART:19701025T030000
RRULE:FREQ=YEARLY;BYMONTH=10;BYDAY=-1SU
END:STANDARD
END:VTIMEZONE
BEGIN:VEVENT
DTSTART;TZID=Europe/Berlin:20240918T194000
DTEND;TZID=Europe/Berlin:20240918T205500
UID:xx63-20240918T194000@ts-kr.de
DTSTAMP:20260420T191748Z
SUMMARY:Aufsteigerkurs V (Goldstar) (xx63)
DESCRIPTION:1te Stunde
LOCATION:Tanzschule Köpke Rupprecht
TRANSP:OPAQUE
SEQUENCE:0
PRIORITY:1
CLASS:PUBLIC
END:VEVENT
BEGIN:VEVENT
DTSTART;TZID=Europe/Berlin:20240925T194000
DTEND;TZID=Europe/Berlin:20240925T205500
UID:xx63-20240925T194000@ts-kr.de
DTSTAMP:20260420T191748Z
SUMMARY:Aufsteigerkurs V (Goldstar) (xx63)
DESCRIPTION:2te Stunde
LOCATION:Tanzschule Köpke Rupprecht
TRANSP:OPAQUE
SEQUENCE:0
PRIORITY:1
CLASS:PUBLIC
END:VEVENT
BEGIN:VEVENT
DTSTART;TZID=Europe/Berlin:20241002T194000
DTEND;TZID=Europe/Berlin:20241002T205500
UID:xx63-20241002T194000@ts-kr.de
DTSTAMP:20260420T191748Z
SUMMARY:Aufsteigerkurs V (Goldstar) (xx63)
DESCRIPTION:3te Stunde
LOCATION:Tanzschule Köpke Rupprecht
TRANSP:OPAQUE
SEQUENCE:0
PRIORITY:1
CLASS:PUBLIC
END:VEVENT
BEGIN:VEVENT
DTSTART;TZID=Europe/Berlin:20241009T194000
DTEND;TZID=Europe/Berlin:20241009T205500
UID:xx63-20241009T194000@ts-kr.de
DTSTAMP:20260420T191748Z
SUMMARY:Aufsteigerkurs V (Goldstar) (xx63)
DESCRIPTION:4te Stunde
LOCATION:Tanzschule Köpke Rupprecht
TRANSP:OPAQUE
SEQUENCE:0
PRIORITY:1
CLASS:PUBLIC
END:VEVENT
BEGIN:VEVENT
DTSTART;TZID=Europe/Berlin:20241016T194000
DTEND;TZID=Europe/Berlin:20241016T205500
UID:xx63-20241016T194000@ts-kr.de
DTSTAMP:20260420T191748Z
SUMMARY:Aufsteigerkurs V (Goldstar) (xx63)
DESCRIPTION:5te Stunde
LOCATION:Tanzschule Köpke Rupprecht
TRANSP:OPAQUE
SEQUENCE:0
PRIORITY:1
CLASS:PUBLIC
END:VEVENT
BEGIN:VEVENT
DTSTART;TZID=Europe/Berlin:20241023T194000
DTEND;TZID=Europe/Berlin:20241023T205500
UID:xx63-20241023T194000@ts-kr.de
DTSTAMP:20260420T191748Z
SUMMARY:Aufsteigerkurs V (Goldstar) (xx63)
DESCRIPTION:6te Stunde
LOCATION:Tanzschule Köpke Rupprecht
TRANSP:OPAQUE
SEQUENCE:0
PRIORITY:1
CLASS:PUBLIC
END:VEVENT
BEGIN:VEVENT
DTSTART;TZID=Europe/Berlin:20241106T194000
DTEND;TZID=Europe/Berlin:20241106T205500
UID:xx63-20241106T194000@ts-kr.de
DTSTAMP:20260420T191748Z
SUMMARY:Aufsteigerkurs V (Goldstar) (xx63)
DESCRIPTION:7te Stunde
LOCATION:Tanzschule Köpke Rupprecht
TRANSP:OPAQUE
SEQUENCE:0
PRIORITY:1
CLASS:PUBLIC
END:VEVENT
BEGIN:VEVENT
DTSTART;TZID=Europe/Berlin:20241113T194000
DTEND;TZID=Europe/Berlin:20241113T205500
UID:xx63-20241113T194000@ts-kr.de
DTSTAMP:20260420T191748Z
SUMMARY:Aufsteigerkurs V (Goldstar) (xx63)
DESCRIPTION:8te Stunde
LOCATION:Tanzschule Köpke Rupprecht
TRANSP:OPAQUE
SEQUENCE:0
PRIORITY:1
CLASS:PUBLIC
END:VEVENT
BEGIN:VEVENT
DTSTART;TZID=Europe/Berlin:20241120T194000
DTEND;TZID=Europe/Berlin:20241120T205500
UID:xx63-20241120T194000@ts-kr.de
DTSTAMP:20260420T191748Z
SUMMARY:Aufsteigerkurs V (Goldstar) (xx63)
DESCRIPTION:9te Stunde
LOCATION:Tanzschule Köpke Rupprecht
TRANSP:OPAQUE
SEQUENCE:0
PRIORITY:1
CLASS:PUBLIC
END:VEVENT
END:VCALENDAR
