BEGIN:VCALENDAR
VERSION:2.0
PRODID:https://ts-kr.de/club/p621
METHOD:PUBLISH
BEGIN:VTIMEZONE
TZID:Europe/Berlin
X-LIC-LOCATION:Europe/Berlin
BEGIN:DAYLIGHT
TZOFFSETFROM:+0100
TZOFFSETTO:+0200
TZNAME:CEST
DTSTART:19700329T020000
RRULE:FREQ=YEARLY;BYMONTH=3;BYDAY=-1SU
END:DAYLIGHT
BEGIN:STANDARD
TZOFFSETFROM:+0200
TZOFFSETTO:+0100
TZNAME:CET
DTSTART:19701025T030000
RRULE:FREQ=YEARLY;BYMONTH=10;BYDAY=-1SU
END:STANDARD
END:VTIMEZONE
BEGIN:VEVENT
DTSTART;TZID=Europe/Berlin:20200108T193000
DTEND;TZID=Europe/Berlin:20200108T210000
UID:p621-20200108T193000@ts-kr.de
DTSTAMP:20260421T002515Z
SUMMARY:Einsteiger - Komplettkurs (WTP1) (p621)
DESCRIPTION:1te Stunde
LOCATION:Tanzschule Köpke Rupprecht
TRANSP:OPAQUE
SEQUENCE:0
PRIORITY:1
CLASS:PUBLIC
END:VEVENT
BEGIN:VEVENT
DTSTART;TZID=Europe/Berlin:20200115T193000
DTEND;TZID=Europe/Berlin:20200115T210000
UID:p621-20200115T193000@ts-kr.de
DTSTAMP:20260421T002515Z
SUMMARY:Einsteiger - Komplettkurs (WTP1) (p621)
DESCRIPTION:2te Stunde
LOCATION:Tanzschule Köpke Rupprecht
TRANSP:OPAQUE
SEQUENCE:0
PRIORITY:1
CLASS:PUBLIC
END:VEVENT
BEGIN:VEVENT
DTSTART;TZID=Europe/Berlin:20200122T193000
DTEND;TZID=Europe/Berlin:20200122T210000
UID:p621-20200122T193000@ts-kr.de
DTSTAMP:20260421T002515Z
SUMMARY:Einsteiger - Komplettkurs (WTP1) (p621)
DESCRIPTION:3te Stunde
LOCATION:Tanzschule Köpke Rupprecht
TRANSP:OPAQUE
SEQUENCE:0
PRIORITY:1
CLASS:PUBLIC
END:VEVENT
BEGIN:VEVENT
DTSTART;TZID=Europe/Berlin:20200129T193000
DTEND;TZID=Europe/Berlin:20200129T210000
UID:p621-20200129T193000@ts-kr.de
DTSTAMP:20260421T002515Z
SUMMARY:Einsteiger - Komplettkurs (WTP1) (p621)
DESCRIPTION:4te Stunde
LOCATION:Tanzschule Köpke Rupprecht
TRANSP:OPAQUE
SEQUENCE:0
PRIORITY:1
CLASS:PUBLIC
END:VEVENT
BEGIN:VEVENT
DTSTART;TZID=Europe/Berlin:20200205T193000
DTEND;TZID=Europe/Berlin:20200205T210000
UID:p621-20200205T193000@ts-kr.de
DTSTAMP:20260421T002515Z
SUMMARY:Einsteiger - Komplettkurs (WTP1) (p621)
DESCRIPTION:5te Stunde
LOCATION:Tanzschule Köpke Rupprecht
TRANSP:OPAQUE
SEQUENCE:0
PRIORITY:1
CLASS:PUBLIC
END:VEVENT
BEGIN:VEVENT
DTSTART;TZID=Europe/Berlin:20200212T193000
DTEND;TZID=Europe/Berlin:20200212T210000
UID:p621-20200212T193000@ts-kr.de
DTSTAMP:20260421T002515Z
SUMMARY:Einsteiger - Komplettkurs (WTP1) (p621)
DESCRIPTION:6te Stunde
LOCATION:Tanzschule Köpke Rupprecht
TRANSP:OPAQUE
SEQUENCE:0
PRIORITY:1
CLASS:PUBLIC
END:VEVENT
BEGIN:VEVENT
DTSTART;TZID=Europe/Berlin:20200219T193000
DTEND;TZID=Europe/Berlin:20200219T210000
UID:p621-20200219T193000@ts-kr.de
DTSTAMP:20260421T002515Z
SUMMARY:Einsteiger - Komplettkurs (WTP1) (p621)
DESCRIPTION:7te Stunde
LOCATION:Tanzschule Köpke Rupprecht
TRANSP:OPAQUE
SEQUENCE:0
PRIORITY:1
CLASS:PUBLIC
END:VEVENT
BEGIN:VEVENT
DTSTART;TZID=Europe/Berlin:20200304T193000
DTEND;TZID=Europe/Berlin:20200304T210000
UID:p621-20200304T193000@ts-kr.de
DTSTAMP:20260421T002515Z
SUMMARY:Einsteiger - Komplettkurs (WTP1) (p621)
DESCRIPTION:8te Stunde
LOCATION:Tanzschule Köpke Rupprecht
TRANSP:OPAQUE
SEQUENCE:0
PRIORITY:1
CLASS:PUBLIC
END:VEVENT
BEGIN:VEVENT
DTSTART;TZID=Europe/Berlin:20200311T193000
DTEND;TZID=Europe/Berlin:20200311T210000
UID:p621-20200311T193000@ts-kr.de
DTSTAMP:20260421T002515Z
SUMMARY:Einsteiger - Komplettkurs (WTP1) (p621)
DESCRIPTION:9te Stunde
LOCATION:Tanzschule Köpke Rupprecht
TRANSP:OPAQUE
SEQUENCE:0
PRIORITY:1
CLASS:PUBLIC
END:VEVENT
END:VCALENDAR
