BEGIN:VCALENDAR
VERSION:2.0
PRODID:https://ts-kr.de/club/p431
METHOD:PUBLISH
BEGIN:VTIMEZONE
TZID:Europe/Berlin
X-LIC-LOCATION:Europe/Berlin
BEGIN:DAYLIGHT
TZOFFSETFROM:+0100
TZOFFSETTO:+0200
TZNAME:CEST
DTSTART:19700329T020000
RRULE:FREQ=YEARLY;BYMONTH=3;BYDAY=-1SU
END:DAYLIGHT
BEGIN:STANDARD
TZOFFSETFROM:+0200
TZOFFSETTO:+0100
TZNAME:CET
DTSTART:19701025T030000
RRULE:FREQ=YEARLY;BYMONTH=10;BYDAY=-1SU
END:STANDARD
END:VTIMEZONE
BEGIN:VEVENT
DTSTART;TZID=Europe/Berlin:20220131T194000
DTEND;TZID=Europe/Berlin:20220131T205500
UID:p431-20220131T194000@ts-kr.de
DTSTAMP:20260420T142919Z
SUMMARY:Einsteiger - Komplettkurs (WTP1) (p431)
DESCRIPTION:1te Stunde
LOCATION:Tanzschule Köpke Rupprecht
TRANSP:OPAQUE
SEQUENCE:0
PRIORITY:1
CLASS:PUBLIC
END:VEVENT
BEGIN:VEVENT
DTSTART;TZID=Europe/Berlin:20220207T194000
DTEND;TZID=Europe/Berlin:20220207T205500
UID:p431-20220207T194000@ts-kr.de
DTSTAMP:20260420T142919Z
SUMMARY:Einsteiger - Komplettkurs (WTP1) (p431)
DESCRIPTION:2te Stunde
LOCATION:Tanzschule Köpke Rupprecht
TRANSP:OPAQUE
SEQUENCE:0
PRIORITY:1
CLASS:PUBLIC
END:VEVENT
BEGIN:VEVENT
DTSTART;TZID=Europe/Berlin:20220214T194000
DTEND;TZID=Europe/Berlin:20220214T205500
UID:p431-20220214T194000@ts-kr.de
DTSTAMP:20260420T142919Z
SUMMARY:Einsteiger - Komplettkurs (WTP1) (p431)
DESCRIPTION:3te Stunde
LOCATION:Tanzschule Köpke Rupprecht
TRANSP:OPAQUE
SEQUENCE:0
PRIORITY:1
CLASS:PUBLIC
END:VEVENT
BEGIN:VEVENT
DTSTART;TZID=Europe/Berlin:20220221T194000
DTEND;TZID=Europe/Berlin:20220221T205500
UID:p431-20220221T194000@ts-kr.de
DTSTAMP:20260420T142919Z
SUMMARY:Einsteiger - Komplettkurs (WTP1) (p431)
DESCRIPTION:4te Stunde
LOCATION:Tanzschule Köpke Rupprecht
TRANSP:OPAQUE
SEQUENCE:0
PRIORITY:1
CLASS:PUBLIC
END:VEVENT
BEGIN:VEVENT
DTSTART;TZID=Europe/Berlin:20220307T194000
DTEND;TZID=Europe/Berlin:20220307T205500
UID:p431-20220307T194000@ts-kr.de
DTSTAMP:20260420T142919Z
SUMMARY:Einsteiger - Komplettkurs (WTP1) (p431)
DESCRIPTION:5te Stunde
LOCATION:Tanzschule Köpke Rupprecht
TRANSP:OPAQUE
SEQUENCE:0
PRIORITY:1
CLASS:PUBLIC
END:VEVENT
BEGIN:VEVENT
DTSTART;TZID=Europe/Berlin:20220314T194000
DTEND;TZID=Europe/Berlin:20220314T205500
UID:p431-20220314T194000@ts-kr.de
DTSTAMP:20260420T142919Z
SUMMARY:Einsteiger - Komplettkurs (WTP1) (p431)
DESCRIPTION:6te Stunde
LOCATION:Tanzschule Köpke Rupprecht
TRANSP:OPAQUE
SEQUENCE:0
PRIORITY:1
CLASS:PUBLIC
END:VEVENT
BEGIN:VEVENT
DTSTART;TZID=Europe/Berlin:20220321T194000
DTEND;TZID=Europe/Berlin:20220321T205500
UID:p431-20220321T194000@ts-kr.de
DTSTAMP:20260420T142919Z
SUMMARY:Einsteiger - Komplettkurs (WTP1) (p431)
DESCRIPTION:7te Stunde
LOCATION:Tanzschule Köpke Rupprecht
TRANSP:OPAQUE
SEQUENCE:0
PRIORITY:1
CLASS:PUBLIC
END:VEVENT
BEGIN:VEVENT
DTSTART;TZID=Europe/Berlin:20220328T194000
DTEND;TZID=Europe/Berlin:20220328T205500
UID:p431-20220328T194000@ts-kr.de
DTSTAMP:20260420T142919Z
SUMMARY:Einsteiger - Komplettkurs (WTP1) (p431)
DESCRIPTION:8te Stunde
LOCATION:Tanzschule Köpke Rupprecht
TRANSP:OPAQUE
SEQUENCE:0
PRIORITY:1
CLASS:PUBLIC
END:VEVENT
BEGIN:VEVENT
DTSTART;TZID=Europe/Berlin:20220404T194000
DTEND;TZID=Europe/Berlin:20220404T205500
UID:p431-20220404T194000@ts-kr.de
DTSTAMP:20260420T142919Z
SUMMARY:Einsteiger - Komplettkurs (WTP1) (p431)
DESCRIPTION:9te Stunde
LOCATION:Tanzschule Köpke Rupprecht
TRANSP:OPAQUE
SEQUENCE:0
PRIORITY:1
CLASS:PUBLIC
END:VEVENT
BEGIN:VEVENT
DTSTART;TZID=Europe/Berlin:20220425T194000
DTEND;TZID=Europe/Berlin:20220425T205500
UID:p431-20220425T194000@ts-kr.de
DTSTAMP:20260420T142919Z
SUMMARY:Einsteiger - Komplettkurs (WTP1) (p431)
DESCRIPTION:10te Stunde
LOCATION:Tanzschule Köpke Rupprecht
TRANSP:OPAQUE
SEQUENCE:0
PRIORITY:1
CLASS:PUBLIC
END:VEVENT
END:VCALENDAR
